0.0200000009928151
0.0
0.0
-0.0200000009928151
-168.932277168646
73.0438159645709
