0.0200000009928151
0.0
0.0
-0.0200000009928151
-168.94687507657
72.2724031029806
