0.0200000009928151
0.0
0.0
-0.0200000009928151
-168.351736874121
72.4100270192158
