0.0200000009928151
0.0
0.0
-0.0200000009928151
-169.236650194847
72.1811460252455
